BEGIN:VCALENDAR
VERSION:2.0
PRODID:-//eventon.com NONSGML v1.0//EN
BEGIN:VEVENT
UID:69e7351abb343
DTSTAMP:20260421T052810
DTSTART:20200526T180000Z
DTEND:20200526T000000Z
TZID:UTC
LOCATION:
SUMMARY:Reunión telemática de Comisión Bicameral
DESCRIPTION: Reunión telemática de Comisión Bicameral Permanente de Trámite Legislativo - DNU [Presidente Dip Marcos Cleri - Vice Senador Luis Naidenoff]\nhttps://gabrielacerruti.com.ar/events/reunion-telematica-de-comision-bicameral/
URL:https://gabrielacerruti.com.ar/events/reunion-telematica-de-comision-bicameral/
END:VEVENT
END:VCALENDAR