BEGIN:VCALENDAR
VERSION:2.0
PRODID:-//eventon.com NONSGML v1.0//EN
BEGIN:VEVENT
UID:69e735671d179
DTSTAMP:20260421T052927
DTSTART:20200707T110000Z
DTEND:20200707T000000Z
TZID:UTC
LOCATION:
SUMMARY:Reunion comision bicameral
DESCRIPTION: Comisión Bicameral de Promoción y Seguimiento de la Comunicación Audiovisual\,  las Tecnologías de las Telecomunicaciones y la Digitalización\nhttps://gabrielacerruti.com.ar/events/reunion-comision-bicameral/
URL:https://gabrielacerruti.com.ar/events/reunion-comision-bicameral/
END:VEVENT
END:VCALENDAR